{"text_format":"1","workbook":"xlsx","n_sheets":5,"sheets":["Spieldaten","Heim","Gast","Spielplan","Spielbericht MOFDV m. Higlights"],"not_rendered":{"charts":0,"images":1,"macros":1,"external_links":0,"defined_names":2,"comments":0,"pivot_tables":0},"unopened":[],"bounds":{"document_bytes":16777216,"sheet_cells":100000,"rows_first":2000,"rows_last":500,"rows_between":2000,"halvings":0,"cell_chars":16384,"cell_head_chars":4096},"cells_cut":0,"cells_raw":0,"read":"whole","date_system":"1900"}

{"sheet":"Spieldaten","index":0,"n_rows":18,"n_cols":6,"rows_kept":18,"cut":false,"hidden":false,"merged":[[17,0,20,8],[4,5,7,8],[11,5,15,8],[4,1,4,3],[5,1,5,3],[9,1,9,3],[11,1,11,3],[12,1,12,3],[7,1,7,3]]}
["Spieldaten"]
[]
["Verbandsliga","Gruppe"]
[]
["Heimmannschaft",null,null,null,null,"In den grünen Feldern sind die jeweiligen Daten einzutragen. Mit diesen werden dann die weiteren Register automatisch befüllt. Am Schluss nicht das Spielende vergessen."]
["Gastmannschaft"]
[]
["Spielort"]
[]
["Spieltag"]
[]
["Spielbeginn",null,null,null,null,"Mit der Tastenkombination \"Strg + l\" werden die Daten in allen Registern gelöscht, so dass das nächste Spiel erfasst werden kann. Die Felder \"Heimmannschaft\", \"Spielort\" und \"Spielbeginn\" werden nicht zurückgesetzt, können aber überschrieben werden."]
["Spielende"]
[]
[]
["Daten zurücksetzen:","Strg + l"]
[]
["Liebe Dartfreunde,\ndieses kleine Excel-Tool habe ich entworfen, um uns die Spielerfassung am Spieltag und die Erstellung des dazugehörigen Spielberichts am PC so einfach wie möglich zu machen. Ich kann allerdings keine Gewähr dafür übernehmen, dass es komplett fehlerfrei ist. Bitte macht einfach vor dem ersten Einsatz mal ein \"Probespiel\" am PC um Euch mit dem Handling vertraut zu machen. Solltet Ihr dabei Fehler finden, lasst mich das bitte wissen (bernd-feist@t-online.de). Auch für konstruktive Anregungen oder Verbesserungsvorschläge bin ich immer offen. \nNoch ein kleiner Tipp: Im Excel gibt es den \"Vollbildmodus\". Der ist am Spieltag selbst sehr hilfreich, weil dann alle Menüs und Buttons ausgeblendet werden und vom Spielplan am meisten auf dem Bildschirm zu sehen ist.\n\nViel Spaß mit dem Programm und \"allways Good Darts\" wünscht Euch Euer Dartkollege Bernd"]

{"sheet":"Heim","index":1,"n_rows":13,"n_cols":11,"rows_kept":13,"cut":false,"hidden":false,"merged":[[12,1,12,8],[0,0,0,12],[2,0,2,12],[4,1,4,8],[5,1,5,8],[11,1,11,8],[6,1,6,8],[7,1,7,8],[8,1,8,8],[9,1,9,8],[10,1,10,8],[5,10,12,12]]}
["Mannschaftsaufstellung - Heimmannschaft"]
[]
[{"$f":"IF(Spieldaten!B5=\"\",\"\",Spieldaten!B5)","v":""}]
[]
["Pos.","Spielername"]
["H1",null,null,null,null,null,null,null,null,null,"Bitte hier die Mannschaftsaufstellung der Heimmannschaft eintragen.\nH1 - H4: Startaufstellung\nHE1 - HE4: Einwechselspieler\n\nDie Ersatzspieler können hier gleich komplett eingetragen werden. Die Auswechslungen erfolgen im Register \"Spielplan\" durch Eintragung des jeweiligen Kürzels (z.B. HE1) beim entsprechenden Spiel."]
["H2"]
["H3"]
["H4"]
["HE1"]
["HE2"]
["HE3"]
["HE4"]

{"sheet":"Gast","index":2,"n_rows":13,"n_cols":11,"rows_kept":13,"cut":false,"hidden":false,"merged":[[4,1,4,8],[5,1,5,8],[0,0,0,12],[2,0,2,12],[11,1,11,8],[5,10,12,12],[12,1,12,8],[6,1,6,8],[7,1,7,8],[8,1,8,8],[9,1,9,8],[10,1,10,8]]}
["Mannschaftsaufstellung - Gastmannschaft"]
[]
[{"$f":"IF(Spieldaten!B6=\"\",\"\",Spieldaten!B6)","v":""}]
[]
["Pos.","Spielername"]
["G1",null,null,null,null,null,null,null,null,null,"Bitte hier die Mannschaftsaufstellung der Gastmannschaft eintragen.\nG1 - G4: Startaufstellung\nGE1 - GE4: Einwechselspieler\n\nDie Ersatzspieler können hier gleich komplett eingetragen werden. Die Auswechslungen erfolgen im Register \"Spielplan\" durch Eintragung des jeweiligen Kürzels (z.B. GE2) beim entsprechenden Spiel."]
["G2"]
["G3"]
["G4"]
["GE1"]
["GE2"]
["GE3"]
["GE4"]

{"sheet":"Spielplan","index":3,"n_rows":41,"n_cols":39,"rows_kept":41,"cut":false,"hidden":false,"merged":[[34,32,35,32],[34,33,35,33],[34,34,35,34],[34,36,35,36],[34,37,35,37],[34,38,35,38],[35,0,35,1],[35,4,35,5],[35,8,35,18],[35,20,35,30],[32,0,32,1],[32,3,33,3],[32,4,32,5],[32,7,35,7],[32,8,32,18],[32,19,33,19],[32,20,32,30],[34,0,34,1],[34,3,35,3],[34,4,34,5],[34,8,34,18],[34,19,35,19],[34,20,34,30],[33,0,33,1],[33,4,33,5],[33,8,33,18],[33,20,33,30],[17,3,18,3],[19,3,20,3],[17,8,17,18],[17,20,17,30],[18,8,18,18],[18,20,18,30],[15,4,15,5],[19,4,19,5],[20,4,20,5],[7,7,10,7],[29,8,29,18],[29,20,29,30],[30,8,30,18],[30,20,30,30],[27,7,30,7],[27,8,27,18],[27,20,27,30],[28,8,28,18],[28,20,28,30],[15,20,15,30],[9,20,9,30],[19,8,19,18],[20,8,20,18],[17,7,20,7],[22,7,25,7],[23,8,23,18],[23,20,23,30],[24,20,24,30],[25,8,25,18],[25,20,25,30],[19,20,19,30],[7,20,7,30],[8,20,8,30],[32,32,33,32],[32,33,33,33],[32,34,33,34],[32,36,33,36],[32,37,33,37],[32,38,33,38],[17,36,18,36],[17,37,18,37],[17,38,18,38],[3,0,3,6],[3,32,3,38],[0,8,0,30],[3,8,3,30],[2,8,2,30],[1,8,1,30],[2,0,2,6],[0,0,0,6],[0,32,0,38],[2,32,2,38],[22,8,22,18],[22,20,22,30],[17,33,18,33],[17,34,18,34],[19,33,20,33],[19,34,20,34],[20,20,20,30],[17,19,18,19],[19,19,20,19],[17,32,18,32],[19,32,20,32],[14,20,14,30],[15,8,15,18],[9,8,9,18],[17,0,17,1],[18,0,18,1],[19,0,19,1],[7,8,7,18],[8,8,8,18],[5,36,5,38],[5,32,5,34],[10,8,10,18],[10,20,10,30],[8,4,8,5],[9,4,9,5],[10,4,10,5],[17,4,17,5],[18,4,18,5],[16,4,16,5],[12,7,15,7],[12,8,12,18],[12,20,12,30],[19,36,20,36],[19,37,20,37],[19,38,20,38],[20,0,20,1],[37,8,37,38],[6,0,6,1],[7,0,7,1],[8,0,8,1],[9,0,9,1],[10,0,10,1],[12,0,12,1],[13,0,13,1],[14,0,14,1],[15,0,15,1],[11,0,11,1],[16,0,16,1],[21,0,21,1],[26,0,26,1],[6,4,6,5],[11,4,11,5],[12,4,12,5],[13,4,13,5],[14,4,14,5],[7,4,7,5],[13,8,13,18],[13,20,13,30],[14,8,14,18],[40,8,40,38],[21,4,21,5],[22,0,22,1],[23,0,23,1],[24,0,24,1],[25,0,25,1],[27,0,27,1],[28,0,28,1],[29,0,29,1],[30,0,30,1],[22,4,22,5],[23,4,23,5],[24,4,24,5],[25,4,25,5],[27,4,27,5],[28,4,28,5],[29,4,29,5],[30,4,30,5],[39,8,39,38],[38,8,38,38],[26,4,26,5],[24,8,24,18],[31,0,31,1],[31,4,31,5]]}
[{"$f":"IF(SUM(AK8:AK36)=0,0,SUM(AK8:AK36))","v":0},null,null,null,null,null,null,null,{"$f":"IF(Spieldaten!B5=\"\",\"\",Spieldaten!B5)","v":""},null,null,null,null,null,null,null,null,null,null,null,null,null,null,null,null,null,null,null,null,null,null,null,{"$f":"IF(SUM(AG8:AG36)=0,0,SUM(AG8:AG36))","v":0}]
[null,null,null,":",null,null,null,null,":",null,null,null,null,null,null,null,null,null,null,null,null,null,null,null,null,null,null,null,null,null,null,null,null,null,null,":"]
[{"$f":"IF(SUM(AM8:AM36)=0,0,SUM(AM8:AM36))","v":0},null,null,null,null,null,null,null,{"$f":"IF(Spieldaten!B6=\"\",\"\",Spieldaten!B6)","v":""},null,null,null,null,null,null,null,null,null,null,null,null,null,null,null,null,null,null,null,null,null,null,null,{"$f":"IF(SUM(AI8:AI36)=0,0,SUM(AI8:AI36))","v":0}]
["Spielstand",null,null,null,null,null,null,null,"Spielplan",null,null,null,null,null,null,null,null,null,null,null,null,null,null,null,null,null,null,null,null,null,null,null,"Legs"]
[]
["Spielpaarungen:",null,null,null,null,null,null,null,null,null,null,null,null,null,null,null,null,null,null,null,null,null,null,null,null,null,null,null,null,null,null,null,"Legs",null,null,null,"Punkte"]
["Spieler",null,"HE",null,"Spieler",null,"GE"]
["H1",null,null,":","G1",null,null,"Einzel",{"$f":"IF(C8=\"\",IF(A8=\"H1\",Heim!$B$6,IF(A8=\"H2\",Heim!$B$7,IF(A8=\"H3\",Heim!$B$8,Heim!$B$9))),IF(C8=\"HE1\",Heim!$B$10,IF(C8=\"HE2\",Heim!$B$11,IF(C8=\"HE3\",Heim!$B$12,Heim!$B$13))))","v":0},null,null,null,null,null,null,null,null,null,null,":",{"$f":"IF(G8=\"\",IF(E8=\"G1\",Gast!$B$6,IF(E8=\"G2\",Gast!$B$7,IF(E8=\"G3\",Gast!$B$8,Gast!$B$9))),IF(G8=\"GE1\",Gast!$B$10,IF(G8=\"GE2\",Gast!$B$11,IF(G8=\"GE3\",Gast!$B$12,Gast!$B$13))))","v":0},null,null,null,null,null,null,null,null,null,null,null,null,":",null,null,{"$f":"IF(AG8=\"\",\"\",IF(AG8>AI8,1,0))","v":""},":",{"$f":"IF(AG8=\"\",\"\",IF(AG8>AI8,0,1))","v":""}]
["H2",null,null,":","G2",null,null,null,{"$f":"IF(C9=\"\",IF(A9=\"H1\",Heim!$B$6,IF(A9=\"H2\",Heim!$B$7,IF(A9=\"H3\",Heim!$B$8,Heim!$B$9))),IF(C9=\"HE1\",Heim!$B$10,IF(C9=\"HE2\",Heim!$B$11,IF(C9=\"HE3\",Heim!$B$12,Heim!$B$13))))","v":0},null,null,null,null,null,null,null,null,null,null,":",{"$f":"IF(G9=\"\",IF(E9=\"G1\",Gast!$B$6,IF(E9=\"G2\",Gast!$B$7,IF(E9=\"G3\",Gast!$B$8,Gast!$B$9))),IF(G9=\"GE1\",Gast!$B$10,IF(G9=\"GE2\",Gast!$B$11,IF(G9=\"GE3\",Gast!$B$12,Gast!$B$13))))","v":0},null,null,null,null,null,null,null,null,null,null,null,null,":",null,null,{"$f":"IF(AG9=\"\",\"\",IF(AG9>AI9,1,0))","v":""},":",{"$f":"IF(AG9=\"\",\"\",IF(AG9>AI9,0,1))","v":""}]
["H3",null,null,":","G3",null,null,null,{"$f":"IF(C10=\"\",IF(A10=\"H1\",Heim!$B$6,IF(A10=\"H2\",Heim!$B$7,IF(A10=\"H3\",Heim!$B$8,Heim!$B$9))),IF(C10=\"HE1\",Heim!$B$10,IF(C10=\"HE2\",Heim!$B$11,IF(C10=\"HE3\",Heim!$B$12,Heim!$B$13))))","v":0},null,null,null,null,null,null,null,null,null,null,":",{"$f":"IF(G10=\"\",IF(E10=\"G1\",Gast!$B$6,IF(E10=\"G2\",Gast!$B$7,IF(E10=\"G3\",Gast!$B$8,Gast!$B$9))),IF(G10=\"GE1\",Gast!$B$10,IF(G10=\"GE2\",Gast!$B$11,IF(G10=\"GE3\",Gast!$B$12,Gast!$B$13))))","v":0},null,null,null,null,null,null,null,null,null,null,null,null,":",null,null,"",":",""]
["H4",null,null,":","G4",null,null,null,{"$f":"IF(C11=\"\",IF(A11=\"H1\",Heim!$B$6,IF(A11=\"H2\",Heim!$B$7,IF(A11=\"H3\",Heim!$B$8,Heim!$B$9))),IF(C11=\"HE1\",Heim!$B$10,IF(C11=\"HE2\",Heim!$B$11,IF(C11=\"HE3\",Heim!$B$12,Heim!$B$13))))","v":0},null,null,null,null,null,null,null,null,null,null,":",{"$f":"IF(G11=\"\",IF(E11=\"G1\",Gast!$B$6,IF(E11=\"G2\",Gast!$B$7,IF(E11=\"G3\",Gast!$B$8,Gast!$B$9))),IF(G11=\"GE1\",Gast!$B$10,IF(G11=\"GE2\",Gast!$B$11,IF(G11=\"GE3\",Gast!$B$12,Gast!$B$13))))","v":0},null,null,null,null,null,null,null,null,null,null,null,null,":",null,null,"",":",""]
["Spieler",null,"HE",null,"Spieler",null,"GE"]
["H1",null,null,":",{"$f":"E9","v":"G2"},null,null,"Einzel",{"$f":"IF(C13=\"\",IF(A13=\"H1\",Heim!$B$6,IF(A13=\"H2\",Heim!$B$7,IF(A13=\"H3\",Heim!$B$8,Heim!$B$9))),IF(C13=\"HE1\",Heim!$B$10,IF(C13=\"HE2\",Heim!$B$11,IF(C13=\"HE3\",Heim!$B$12,Heim!$B$13))))","v":0},null,null,null,null,null,null,null,null,null,null,":",{"$f":"IF(G13=\"\",IF(E13=\"G1\",Gast!$B$6,IF(E13=\"G2\",Gast!$B$7,IF(E13=\"G3\",Gast!$B$8,Gast!$B$9))),IF(G13=\"GE1\",Gast!$B$10,IF(G13=\"GE2\",Gast!$B$11,IF(G13=\"GE3\",Gast!$B$12,Gast!$B$13))))","v":0},null,null,null,null,null,null,null,null,null,null,null,null,":",null,null,{"$f":"IF(AG13=\"\",\"\",IF(AG13>AI13,1,0))","v":""},":",{"$f":"IF(AG13=\"\",\"\",IF(AG13>AI13,0,1))","v":""}]
["H2",null,null,":",{"$f":"E8","v":"G1"},null,null,null,{"$f":"IF(C14=\"\",IF(A14=\"H1\",Heim!$B$6,IF(A14=\"H2\",Heim!$B$7,IF(A14=\"H3\",Heim!$B$8,Heim!$B$9))),IF(C14=\"HE1\",Heim!$B$10,IF(C14=\"HE2\",Heim!$B$11,IF(C14=\"HE3\",Heim!$B$12,Heim!$B$13))))","v":0},null,null,null,null,null,null,null,null,null,null,":",{"$f":"IF(G14=\"\",IF(E14=\"G1\",Gast!$B$6,IF(E14=\"G2\",Gast!$B$7,IF(E14=\"G3\",Gast!$B$8,Gast!$B$9))),IF(G14=\"GE1\",Gast!$B$10,IF(G14=\"GE2\",Gast!$B$11,IF(G14=\"GE3\",Gast!$B$12,Gast!$B$13))))","v":0},null,null,null,null,null,null,null,null,null,null,null,null,":",null,null,"",":",""]
["H3",null,null,":",{"$f":"E11","v":"G4"},null,null,null,{"$f":"IF(C15=\"\",IF(A15=\"H1\",Heim!$B$6,IF(A15=\"H2\",Heim!$B$7,IF(A15=\"H3\",Heim!$B$8,Heim!$B$9))),IF(C15=\"HE1\",Heim!$B$10,IF(C15=\"HE2\",Heim!$B$11,IF(C15=\"HE3\",Heim!$B$12,Heim!$B$13))))","v":0},null,null,null,null,null,null,null,null,null,null,":",{"$f":"IF(G15=\"\",IF(E15=\"G1\",Gast!$B$6,IF(E15=\"G2\",Gast!$B$7,IF(E15=\"G3\",Gast!$B$8,Gast!$B$9))),IF(G15=\"GE1\",Gast!$B$10,IF(G15=\"GE2\",Gast!$B$11,IF(G15=\"GE3\",Gast!$B$12,Gast!$B$13))))","v":0},null,null,null,null,null,null,null,null,null,null,null,null,":",null,null,"",":",""]
["H4",null,null,":",{"$f":"E10","v":"G3"},null,null,null,{"$f":"IF(C16=\"\",IF(A16=\"H1\",Heim!$B$6,IF(A16=\"H2\",Heim!$B$7,IF(A16=\"H3\",Heim!$B$8,Heim!$B$9))),IF(C16=\"HE1\",Heim!$B$10,IF(C16=\"HE2\",Heim!$B$11,IF(C16=\"HE3\",Heim!$B$12,Heim!$B$13))))","v":0},null,null,null,null,null,null,null,null,null,null,":",{"$f":"IF(G16=\"\",IF(E16=\"G1\",Gast!$B$6,IF(E16=\"G2\",Gast!$B$7,IF(E16=\"G3\",Gast!$B$8,Gast!$B$9))),IF(G16=\"GE1\",Gast!$B$10,IF(G16=\"GE2\",Gast!$B$11,IF(G16=\"GE3\",Gast!$B$12,Gast!$B$13))))","v":0},null,null,null,null,null,null,null,null,null,null,null,null,":",null,null,"",":",""]
["Spieler",null,"HE",null,"Spieler",null,"GE"]
["H1",null,null,":",{"$f":"E14","v":"G1"},null,null,"Doppel",{"$f":"IF(C18=\"\",IF(A18=\"H1\",Heim!$B$6,IF(A18=\"H2\",Heim!$B$7,IF(A18=\"H3\",Heim!$B$8,Heim!$B$9))),IF(C18=\"HE1\",Heim!$B$10,IF(C18=\"HE2\",Heim!$B$11,IF(C18=\"HE3\",Heim!$B$12,Heim!$B$13))))","v":0},null,null,null,null,null,null,null,null,null,null,":",{"$f":"IF(G18=\"\",IF(E18=\"G1\",Gast!$B$6,IF(E18=\"G2\",Gast!$B$7,IF(E18=\"G3\",Gast!$B$8,Gast!$B$9))),IF(G18=\"GE1\",Gast!$B$10,IF(G18=\"GE2\",Gast!$B$11,IF(G18=\"GE3\",Gast!$B$12,Gast!$B$13))))","v":0},null,null,null,null,null,null,null,null,null,null,null,null,":",null,null,{"$f":"IF(AG18=\"\",\"\",IF(AG18>AI18,1,0))","v":""},":",{"$f":"IF(AG18=\"\",\"\",IF(AG18>AI18,0,1))","v":""}]
["H2",null,null,null,{"$f":"E13","v":"G2"},null,null,null,{"$f":"IF(C19=\"\",IF(A19=\"H1\",Heim!$B$6,IF(A19=\"H2\",Heim!$B$7,IF(A19=\"H3\",Heim!$B$8,Heim!$B$9))),IF(C19=\"HE1\",Heim!$B$10,IF(C19=\"HE2\",Heim!$B$11,IF(C19=\"HE3\",Heim!$B$12,Heim!$B$13))))","v":0},null,null,null,null,null,null,null,null,null,null,null,{"$f":"IF(G19=\"\",IF(E19=\"G1\",Gast!$B$6,IF(E19=\"G2\",Gast!$B$7,IF(E19=\"G3\",Gast!$B$8,Gast!$B$9))),IF(G19=\"GE1\",Gast!$B$10,IF(G19=\"GE2\",Gast!$B$11,IF(G19=\"GE3\",Gast!$B$12,Gast!$B$13))))","v":0},null,null,null,null,null,null,null,null,null,null,null,null,null,null,null,"",":",""]
["H3",null,null,":",{"$f":"E16","v":"G3"},null,null,null,{"$f":"IF(C20=\"\",IF(A20=\"H1\",Heim!$B$6,IF(A20=\"H2\",Heim!$B$7,IF(A20=\"H3\",Heim!$B$8,Heim!$B$9))),IF(C20=\"HE1\",Heim!$B$10,IF(C20=\"HE2\",Heim!$B$11,IF(C20=\"HE3\",Heim!$B$12,Heim!$B$13))))","v":0},null,null,null,null,null,null,null,null,null,null,":",{"$f":"IF(G20=\"\",IF(E20=\"G1\",Gast!$B$6,IF(E20=\"G2\",Gast!$B$7,IF(E20=\"G3\",Gast!$B$8,Gast!$B$9))),IF(G20=\"GE1\",Gast!$B$10,IF(G20=\"GE2\",Gast!$B$11,IF(G20=\"GE3\",Gast!$B$12,Gast!$B$13))))","v":0},null,null,null,null,null,null,null,null,null,null,null,null,":",null,null,"",":",""]
["H4",null,null,null,{"$f":"E15","v":"G4"},null,null,null,{"$f":"IF(C21=\"\",IF(A21=\"H1\",Heim!$B$6,IF(A21=\"H2\",Heim!$B$7,IF(A21=\"H3\",Heim!$B$8,Heim!$B$9))),IF(C21=\"HE1\",Heim!$B$10,IF(C21=\"HE2\",Heim!$B$11,IF(C21=\"HE3\",Heim!$B$12,Heim!$B$13))))","v":0},null,null,null,null,null,null,null,null,null,null,null,{"$f":"IF(G21=\"\",IF(E21=\"G1\",Gast!$B$6,IF(E21=\"G2\",Gast!$B$7,IF(E21=\"G3\",Gast!$B$8,Gast!$B$9))),IF(G21=\"GE1\",Gast!$B$10,IF(G21=\"GE2\",Gast!$B$11,IF(G21=\"GE3\",Gast!$B$12,Gast!$B$13))))","v":0},null,null,null,null,null,null,null,null,null,null,null,null,null,null,null,"",":",""]
["Spieler",null,"HE",null,"Spieler",null,"GE"]
["H1",null,null,":",{"$f":"E20","v":"G3"},null,null,"Einzel",{"$f":"IF(C23=\"\",IF(A23=\"H1\",Heim!$B$6,IF(A23=\"H2\",Heim!$B$7,IF(A23=\"H3\",Heim!$B$8,Heim!$B$9))),IF(C23=\"HE1\",Heim!$B$10,IF(C23=\"HE2\",Heim!$B$11,IF(C23=\"HE3\",Heim!$B$12,Heim!$B$13))))","v":0},null,null,null,null,null,null,null,null,null,null,":",{"$f":"IF(G23=\"\",IF(E23=\"G1\",Gast!$B$6,IF(E23=\"G2\",Gast!$B$7,IF(E23=\"G3\",Gast!$B$8,Gast!$B$9))),IF(G23=\"GE1\",Gast!$B$10,IF(G23=\"GE2\",Gast!$B$11,IF(G23=\"GE3\",Gast!$B$12,Gast!$B$13))))","v":0},null,null,null,null,null,null,null,null,null,null,null,null,":",null,null,{"$f":"IF(AG23=\"\",\"\",IF(AG23>AI23,1,0))","v":""},":",{"$f":"IF(AG23=\"\",\"\",IF(AG23>AI23,0,1))","v":""}]
["H2",null,null,":",{"$f":"E21","v":"G4"},null,null,null,{"$f":"IF(C24=\"\",IF(A24=\"H1\",Heim!$B$6,IF(A24=\"H2\",Heim!$B$7,IF(A24=\"H3\",Heim!$B$8,Heim!$B$9))),IF(C24=\"HE1\",Heim!$B$10,IF(C24=\"HE2\",Heim!$B$11,IF(C24=\"HE3\",Heim!$B$12,Heim!$B$13))))","v":0},null,null,null,null,null,null,null,null,null,null,":",{"$f":"IF(G24=\"\",IF(E24=\"G1\",Gast!$B$6,IF(E24=\"G2\",Gast!$B$7,IF(E24=\"G3\",Gast!$B$8,Gast!$B$9))),IF(G24=\"GE1\",Gast!$B$10,IF(G24=\"GE2\",Gast!$B$11,IF(G24=\"GE3\",Gast!$B$12,Gast!$B$13))))","v":0},null,null,null,null,null,null,null,null,null,null,null,null,":",null,null,"",":",""]
["H3",null,null,":",{"$f":"E18","v":"G1"},null,null,null,{"$f":"IF(C25=\"\",IF(A25=\"H1\",Heim!$B$6,IF(A25=\"H2\",Heim!$B$7,IF(A25=\"H3\",Heim!$B$8,Heim!$B$9))),IF(C25=\"HE1\",Heim!$B$10,IF(C25=\"HE2\",Heim!$B$11,IF(C25=\"HE3\",Heim!$B$12,Heim!$B$13))))","v":0},null,null,null,null,null,null,null,null,null,null,":",{"$f":"IF(G25=\"\",IF(E25=\"G1\",Gast!$B$6,IF(E25=\"G2\",Gast!$B$7,IF(E25=\"G3\",Gast!$B$8,Gast!$B$9))),IF(G25=\"GE1\",Gast!$B$10,IF(G25=\"GE2\",Gast!$B$11,IF(G25=\"GE3\",Gast!$B$12,Gast!$B$13))))","v":0},null,null,null,null,null,null,null,null,null,null,null,null,":",null,null,"",":",""]
["H4",null,null,":",{"$f":"E19","v":"G2"},null,null,null,{"$f":"IF(C26=\"\",IF(A26=\"H1\",Heim!$B$6,IF(A26=\"H2\",Heim!$B$7,IF(A26=\"H3\",Heim!$B$8,Heim!$B$9))),IF(C26=\"HE1\",Heim!$B$10,IF(C26=\"HE2\",Heim!$B$11,IF(C26=\"HE3\",Heim!$B$12,Heim!$B$13))))","v":0},null,null,null,null,null,null,null,null,null,null,":",{"$f":"IF(G26=\"\",IF(E26=\"G1\",Gast!$B$6,IF(E26=\"G2\",Gast!$B$7,IF(E26=\"G3\",Gast!$B$8,Gast!$B$9))),IF(G26=\"GE1\",Gast!$B$10,IF(G26=\"GE2\",Gast!$B$11,IF(G26=\"GE3\",Gast!$B$12,Gast!$B$13))))","v":0},null,null,null,null,null,null,null,null,null,null,null,null,":",null,null,"",":",""]
["Spieler",null,"HE",null,"Spieler",null,"GE"]
["H1",null,null,":",{"$f":"E24","v":"G4"},null,null,"Einzel",{"$f":"IF(C28=\"\",IF(A28=\"H1\",Heim!$B$6,IF(A28=\"H2\",Heim!$B$7,IF(A28=\"H3\",Heim!$B$8,Heim!$B$9))),IF(C28=\"HE1\",Heim!$B$10,IF(C28=\"HE2\",Heim!$B$11,IF(C28=\"HE3\",Heim!$B$12,Heim!$B$13))))","v":0},null,null,null,null,null,null,null,null,null,null,":",{"$f":"IF(G28=\"\",IF(E28=\"G1\",Gast!$B$6,IF(E28=\"G2\",Gast!$B$7,IF(E28=\"G3\",Gast!$B$8,Gast!$B$9))),IF(G28=\"GE1\",Gast!$B$10,IF(G28=\"GE2\",Gast!$B$11,IF(G28=\"GE3\",Gast!$B$12,Gast!$B$13))))","v":0},null,null,null,null,null,null,null,null,null,null,null,null,":",null,null,{"$f":"IF(AG28=\"\",\"\",IF(AG28>AI28,1,0))","v":""},":",{"$f":"IF(AG28=\"\",\"\",IF(AG28>AI28,0,1))","v":""}]
["H2",null,null,":",{"$f":"E23","v":"G3"},null,null,null,{"$f":"IF(C29=\"\",IF(A29=\"H1\",Heim!$B$6,IF(A29=\"H2\",Heim!$B$7,IF(A29=\"H3\",Heim!$B$8,Heim!$B$9))),IF(C29=\"HE1\",Heim!$B$10,IF(C29=\"HE2\",Heim!$B$11,IF(C29=\"HE3\",Heim!$B$12,Heim!$B$13))))","v":0},null,null,null,null,null,null,null,null,null,null,":",{"$f":"IF(G29=\"\",IF(E29=\"G1\",Gast!$B$6,IF(E29=\"G2\",Gast!$B$7,IF(E29=\"G3\",Gast!$B$8,Gast!$B$9))),IF(G29=\"GE1\",Gast!$B$10,IF(G29=\"GE2\",Gast!$B$11,IF(G29=\"GE3\",Gast!$B$12,Gast!$B$13))))","v":0},null,null,null,null,null,null,null,null,null,null,null,null,":",null,null,"",":",""]
["H3",null,null,":",{"$f":"E26","v":"G2"},null,null,null,{"$f":"IF(C30=\"\",IF(A30=\"H1\",Heim!$B$6,IF(A30=\"H2\",Heim!$B$7,IF(A30=\"H3\",Heim!$B$8,Heim!$B$9))),IF(C30=\"HE1\",Heim!$B$10,IF(C30=\"HE2\",Heim!$B$11,IF(C30=\"HE3\",Heim!$B$12,Heim!$B$13))))","v":0},null,null,null,null,null,null,null,null,null,null,":",{"$f":"IF(G30=\"\",IF(E30=\"G1\",Gast!$B$6,IF(E30=\"G2\",Gast!$B$7,IF(E30=\"G3\",Gast!$B$8,Gast!$B$9))),IF(G30=\"GE1\",Gast!$B$10,IF(G30=\"GE2\",Gast!$B$11,IF(G30=\"GE3\",Gast!$B$12,Gast!$B$13))))","v":0},null,null,null,null,null,null,null,null,null,null,null,null,":",null,null,"",":",""]
["H4",null,null,":",{"$f":"E25","v":"G1"},null,null,null,{"$f":"IF(C31=\"\",IF(A31=\"H1\",Heim!$B$6,IF(A31=\"H2\",Heim!$B$7,IF(A31=\"H3\",Heim!$B$8,Heim!$B$9))),IF(C31=\"HE1\",Heim!$B$10,IF(C31=\"HE2\",Heim!$B$11,IF(C31=\"HE3\",Heim!$B$12,Heim!$B$13))))","v":0},null,null,null,null,null,null,null,null,null,null,":",{"$f":"IF(G31=\"\",IF(E31=\"G1\",Gast!$B$6,IF(E31=\"G2\",Gast!$B$7,IF(E31=\"G3\",Gast!$B$8,Gast!$B$9))),IF(G31=\"GE1\",Gast!$B$10,IF(G31=\"GE2\",Gast!$B$11,IF(G31=\"GE3\",Gast!$B$12,Gast!$B$13))))","v":0},null,null,null,null,null,null,null,null,null,null,null,null,":",null,null,"",":",""]
["Spieler",null,"HE",null,"Spieler",null,"GE"]
["H1",null,null,":",{"$f":"E29","v":"G3"},null,null,"Doppel",{"$f":"IF(C33=\"\",IF(A33=\"H1\",Heim!$B$6,IF(A33=\"H2\",Heim!$B$7,IF(A33=\"H3\",Heim!$B$8,Heim!$B$9))),IF(C33=\"HE1\",Heim!$B$10,IF(C33=\"HE2\",Heim!$B$11,IF(C33=\"HE3\",Heim!$B$12,Heim!$B$13))))","v":0},null,null,null,null,null,null,null,null,null,null,":",{"$f":"IF(G33=\"\",IF(E33=\"G1\",Gast!$B$6,IF(E33=\"G2\",Gast!$B$7,IF(E33=\"G3\",Gast!$B$8,Gast!$B$9))),IF(G33=\"GE1\",Gast!$B$10,IF(G33=\"GE2\",Gast!$B$11,IF(G33=\"GE3\",Gast!$B$12,Gast!$B$13))))","v":0},null,null,null,null,null,null,null,null,null,null,null,null,":",null,null,{"$f":"IF(AG33=\"\",\"\",IF(AG33>AI33,1,0))","v":""},":",{"$f":"IF(AG33=\"\",\"\",IF(AG33>AI33,0,1))","v":""}]
["H2",null,null,null,{"$f":"E28","v":"G4"},null,null,null,{"$f":"IF(C34=\"\",IF(A34=\"H1\",Heim!$B$6,IF(A34=\"H2\",Heim!$B$7,IF(A34=\"H3\",Heim!$B$8,Heim!$B$9))),IF(C34=\"HE1\",Heim!$B$10,IF(C34=\"HE2\",Heim!$B$11,IF(C34=\"HE3\",Heim!$B$12,Heim!$B$13))))","v":0},null,null,null,null,null,null,null,null,null,null,null,{"$f":"IF(G34=\"\",IF(E34=\"G1\",Gast!$B$6,IF(E34=\"G2\",Gast!$B$7,IF(E34=\"G3\",Gast!$B$8,Gast!$B$9))),IF(G34=\"GE1\",Gast!$B$10,IF(G34=\"GE2\",Gast!$B$11,IF(G34=\"GE3\",Gast!$B$12,Gast!$B$13))))","v":0},null,null,null,null,null,null,null,null,null,null,null,null,null,null,null,"",":",""]
["H3",null,null,":",{"$f":"E31","v":"G1"},null,null,null,{"$f":"IF(C35=\"\",IF(A35=\"H1\",Heim!$B$6,IF(A35=\"H2\",Heim!$B$7,IF(A35=\"H3\",Heim!$B$8,Heim!$B$9))),IF(C35=\"HE1\",Heim!$B$10,IF(C35=\"HE2\",Heim!$B$11,IF(C35=\"HE3\",Heim!$B$12,Heim!$B$13))))","v":0},null,null,null,null,null,null,null,null,null,null,":",{"$f":"IF(G35=\"\",IF(E35=\"G1\",Gast!$B$6,IF(E35=\"G2\",Gast!$B$7,IF(E35=\"G3\",Gast!$B$8,Gast!$B$9))),IF(G35=\"GE1\",Gast!$B$10,IF(G35=\"GE2\",Gast!$B$11,IF(G35=\"GE3\",Gast!$B$12,Gast!$B$13))))","v":0},null,null,null,null,null,null,null,null,null,null,null,null,":",null,null,"",":",""]
["H4",null,null,null,{"$f":"E30","v":"G2"},null,null,null,{"$f":"IF(C36=\"\",IF(A36=\"H1\",Heim!$B$6,IF(A36=\"H2\",Heim!$B$7,IF(A36=\"H3\",Heim!$B$8,Heim!$B$9))),IF(C36=\"HE1\",Heim!$B$10,IF(C36=\"HE2\",Heim!$B$11,IF(C36=\"HE3\",Heim!$B$12,Heim!$B$13))))","v":0},null,null,null,null,null,null,null,null,null,null,null,{"$f":"IF(G36=\"\",IF(E36=\"G1\",Gast!$B$6,IF(E36=\"G2\",Gast!$B$7,IF(E36=\"G3\",Gast!$B$8,Gast!$B$9))),IF(G36=\"GE1\",Gast!$B$10,IF(G36=\"GE2\",Gast!$B$11,IF(G36=\"GE3\",Gast!$B$12,Gast!$B$13))))","v":0},null,null,null,null,null,null,null,null,null,null,null,null,null,null,null,"",":",""]
[]
[null,null,null,null,null,null,null,null,"Die Inhalte bzw. die Werte von roten und blauen Felder werden automatisch berechnet"]
[null,null,null,null,null,null,null,null,"Eintragung und Änderungen können nur in den grünmarkierten Feldern vorgenommen werden"]
[null,null,null,null,null,null,null,null,"Beim Einsatz von Ersatzspielern werden diese beim jeweiligen Spiel in der grünmarkierten Spalte \"HE\" bzw. \"GE\" mit dem jeweiligen Kürzel (z.B. HE1 oder GE2) aus der Mannschaftsaufstellung eingetragen. Bei Rückwechsel bleibt die Spalte \"HE\" bzw. \"GE\" wieder leer."]
[null,null,null,null,null,null,null,null,"Der freie Wechsel der Doppelspieler kann in der ersten Spalte \"Spieler\" durch überschreiben erfolgen. Werden Ersatzspieler in den Doppel eingesetzt, müssen diese wieder in der Sparlet \"HE\" bzw. \"GE\" eingetragen werden."]

{"sheet":"Spielbericht MOFDV m. Higlights","index":4,"n_rows":103,"n_cols":35,"rows_kept":103,"cut":false,"hidden":false,"merged":[[5,34,6,51],[7,34,8,51],[4,34,4,51],[36,30,37,30],[36,31,37,31],[37,3,37,9],[37,15,37,21],[38,3,38,9],[38,10,39,11],[38,15,38,21],[38,22,39,23],[38,25,39,25],[38,26,39,26],[38,27,39,27],[38,29,39,29],[38,30,39,30],[38,31,39,31],[39,3,39,9],[39,15,39,21],[14,22,14,23],[18,22,18,23],[21,26,22,26],[21,27,22,27],[19,22,19,23],[36,0,39,0],[36,3,36,9],[36,10,37,11],[36,15,36,21],[36,22,37,23],[36,25,37,25],[36,26,37,26],[36,27,37,27],[36,29,37,29],[101,0,101,1],[101,2,101,14],[101,15,102,16],[101,17,102,21],[101,22,102,26],[102,0,102,1],[102,2,102,14],[99,0,99,1],[99,2,99,14],[99,15,100,16],[99,17,100,21],[99,22,100,26],[100,0,100,1],[100,2,100,14],[97,22,98,26],[98,0,98,1],[93,0,94,1],[93,2,94,14],[93,15,93,26],[94,15,94,16],[74,2,74,14],[75,0,75,1],[75,2,75,14],[94,22,94,26],[95,0,95,1],[95,2,95,14],[95,15,96,16],[95,17,96,21],[95,22,96,26],[96,0,96,1],[96,2,96,14],[77,15,78,16],[77,17,78,21],[77,22,78,26],[79,15,80,16],[79,17,80,21],[79,22,80,26],[78,0,78,1],[78,2,78,14],[79,0,79,1],[79,2,79,14],[97,0,97,1],[97,2,97,14],[97,15,98,16],[97,17,98,21],[94,17,94,21],[73,2,73,14],[84,0,84,1],[84,2,84,14],[98,2,98,14],[90,0,90,1],[90,2,90,14],[90,15,90,16],[90,17,90,21],[76,0,76,1],[76,2,76,14],[77,0,77,1],[77,2,77,14],[74,0,74,1],[86,0,86,1],[86,2,86,14],[86,15,86,16],[80,0,80,1],[80,2,80,14],[90,22,90,26],[91,0,91,1],[91,2,91,14],[91,15,91,16],[91,17,91,21],[91,22,91,26],[88,0,88,1],[88,2,88,14],[88,15,88,16],[88,17,88,21],[88,22,88,26],[89,0,89,1],[89,2,89,14],[89,15,89,16],[89,17,89,21],[89,22,89,26],[86,22,86,26],[87,0,87,1],[87,2,87,14],[87,15,87,16],[87,17,87,21],[87,22,87,26],[84,15,84,16],[84,17,84,21],[84,22,84,26],[85,0,85,1],[85,2,85,14],[85,15,85,16],[85,17,85,21],[85,22,85,26],[86,17,86,21],[69,0,69,1],[69,2,69,14],[69,15,69,16],[69,17,69,21],[69,22,69,26],[82,0,83,1],[82,2,83,14],[82,15,82,26],[83,15,83,16],[83,17,83,21],[83,22,83,26],[71,15,71,26],[72,15,72,16],[72,17,72,21],[72,22,72,26],[73,0,73,1],[71,0,72,1],[71,2,72,14],[73,15,74,16],[73,17,74,21],[73,22,74,26],[75,15,76,16],[75,17,76,21],[75,22,76,26],[67,0,67,1],[67,2,67,14],[67,15,67,16],[67,17,67,21],[67,22,67,26],[68,0,68,1],[68,2,68,14],[68,15,68,16],[68,17,68,21],[68,22,68,26],[65,0,65,1],[65,2,65,14],[65,15,65,16],[65,17,65,21],[65,22,65,26],[66,0,66,1],[66,2,66,14],[66,15,66,16],[66,17,66,21],[66,22,66,26],[63,0,63,1],[63,2,63,14],[63,15,63,16],[63,17,63,21],[63,22,63,26],[64,0,64,1],[64,2,64,14],[64,15,64,16],[64,17,64,21],[64,22,64,26],[62,17,62,21],[61,17,61,21],[61,15,61,16],[61,22,61,26],[62,22,62,26],[62,0,62,1],[62,2,62,14],[62,15,62,16],[60,0,61,1],[60,2,61,14],[60,15,60,26],[26,0,29,0],[53,1,53,31],[54,1,54,31],[48,25,48,27],[48,29,48,31],[47,25,47,31],[49,2,49,9],[50,2,50,9],[49,13,49,19],[50,13,50,19],[29,3,29,9],[29,10,29,11],[29,15,29,21],[29,22,29,23],[26,3,26,9],[26,10,26,11],[26,15,26,21],[26,22,26,23],[27,3,27,9],[27,10,27,11],[27,15,27,21],[27,22,27,23],[31,0,34,0],[31,3,31,9],[11,0,14,0],[16,0,19,0],[21,0,24,0],[23,15,23,21],[12,3,12,9],[12,10,12,11],[13,3,13,9],[13,10,13,11],[16,15,16,21],[18,15,18,21],[19,3,19,9],[19,10,19,11],[16,3,16,9],[16,10,16,11],[19,15,19,21],[12,15,12,21],[17,15,17,21],[14,15,14,21],[23,3,23,9],[23,10,24,11],[17,3,17,9],[17,10,17,11],[24,3,24,9],[0,7,0,17],[0,19,0,31],[3,7,3,17],[4,7,4,17],[4,19,4,22],[3,25,3,27],[4,25,4,27],[4,29,4,31],[3,29,3,31],[3,19,3,22],[1,7,1,17],[1,19,1,31],[10,25,10,27],[10,29,10,31],[11,3,11,9],[14,10,14,11],[21,3,21,9],[22,3,22,9],[14,3,14,9],[21,10,22,11],[21,22,22,23],[11,10,11,11],[11,15,11,21],[11,22,11,23],[10,3,10,9],[10,10,10,11],[10,15,10,21],[10,22,10,23],[21,31,22,31],[18,3,18,9],[18,10,18,11],[23,31,24,31],[12,22,12,23],[13,15,13,21],[13,22,13,23],[23,26,24,26],[23,27,24,27],[21,29,22,29],[21,30,22,30],[21,15,21,21],[22,15,22,21],[23,29,24,29],[23,30,24,30],[24,15,24,21],[21,25,22,25],[16,22,16,23],[23,25,24,25],[17,22,17,23],[28,3,28,9],[28,10,28,11],[28,15,28,21],[28,22,28,23],[23,22,24,23],[34,3,34,9],[34,10,34,11],[34,15,34,21],[34,22,34,23],[31,10,31,11],[31,15,31,21],[31,22,31,23],[32,3,32,9],[32,10,32,11],[32,15,32,21],[32,22,32,23],[33,3,33,9],[33,10,33,11],[33,15,33,21],[33,22,33,23]]}
[null,null,null,null,null,null,null,"Heimteam",null,null,null,null,null,null,null,null,null,null,null,"Gastteam"]
[null,null,null,null,null,null,null,{"$f":"IF(Spieldaten!B5=\"\",\"\",Spieldaten!B5)","v":""},null,null,null,null,null,null,null,null,null,null,null,{"$f":"IF(Spieldaten!B6=\"\",\"\",Spieldaten!B6)","v":""}]
[]
[null,null,null,null,null,null,null,"Spielort",null,null,null,null,null,null,null,null,null,null,null,"Datum",null,null,null,null,null,"Beginn",null,null,null,"Ende"]
[null,null,null,null,null,null,null,{"$f":"IF(Spieldaten!B8=\"\",\"\",Spieldaten!B8)","v":""},null,null,null,null,null,null,null,null,null,null,null,{"$f":"IF(Spieldaten!B10=\"\",\"\",Spieldaten!B10)","v":""},null,null,null,null,null,{"$f":"IF(Spieldaten!B12=\"\",\"\",Spieldaten!B12)","v":""},null,null,null,{"$f":"IF(Spieldaten!B13=\"\",\"\",Spieldaten!B13)","v":""},null,null,null,null,"Nicht vergessen die Endzeit im Register \"Spieldaten\" einzugeben."]
[null,null,null,null,null,null,null,null,null,null,null,null,null,null,null,null,null,null,null,null,null,null,null,null,null,null,null,null,null,null,null,null,null,null,"Die Highlights können unten im Anschluss an den Spielberichtsboden eingetragen werden."]
[]
[null,null,null,null,null,null,null,null,null,null,null,null,null,null,null,null,null,null,null,null,null,null,null,null,null,null,null,null,null,null,null,null,null,null,"Dazu kann die Seite 2 des Spielberichtsbogen auch schon vor dem Spiel ausgedruckt und am Board bereitgelegt werden."]
[null,"Spielbericht",null,null,null,null,{"$f":"Spieldaten!A3","v":"Verbandsliga"},null,null,null,null,null,null,null,"Gruppe",null,null,null,{"$f":"IF(Spieldaten!D3=\"\",\"\",Spieldaten!D3)","v":""}]
[]
[null,null,"HE","Name, Vorname",null,null,null,null,null,null,"Highlights",null,null,null,"GE","Name, Vorname",null,null,null,null,null,null,"Highlights",null,null,"Leg",null,null,null,"Punkte"]
["Einzel",{"$f":"Spielplan!A8","v":"H1"},{"$f":"IF(Spielplan!C8=\"\",\"\",Spielplan!C8)","v":""},{"$f":"IF(Spielplan!I8=\"\",\"\",Spielplan!I8)","v":0},null,null,null,null,null,null,null,null,null,{"$f":"Spielplan!E8","v":"G1"},{"$f":"IF(Spielplan!G8=\"\",\"\",Spielplan!G8)","v":""},{"$f":"IF(Spielplan!U8=\"\",\"\",Spielplan!U8)","v":0},null,null,null,null,null,null,null,null,null,{"$f":"IF(Spielplan!AG8=\"\",\"\",Spielplan!AG8)","v":""},":",{"$f":"IF(Spielplan!AI8=\"\",\"\",Spielplan!AI8)","v":""},null,{"$f":"IF(Spielplan!AK8=\"\",\"\",Spielplan!AK8)","v":""},":",{"$f":"IF(Spielplan!AM8=\"\",\"\",Spielplan!AM8)","v":""}]
[null,{"$f":"Spielplan!A9","v":"H2"},{"$f":"IF(Spielplan!C9=\"\",\"\",Spielplan!C9)","v":""},{"$f":"IF(Spielplan!I9=\"\",\"\",Spielplan!I9)","v":0},null,null,null,null,null,null,null,null,null,{"$f":"Spielplan!E9","v":"G2"},{"$f":"IF(Spielplan!G9=\"\",\"\",Spielplan!G9)","v":""},{"$f":"IF(Spielplan!U9=\"\",\"\",Spielplan!U9)","v":0},null,null,null,null,null,null,null,null,null,{"$f":"IF(Spielplan!AG9=\"\",\"\",Spielplan!AG9)","v":""},":",{"$f":"IF(Spielplan!AI9=\"\",\"\",Spielplan!AI9)","v":""},null,{"$f":"IF(Spielplan!AK9=\"\",\"\",Spielplan!AK9)","v":""},":",{"$f":"IF(Spielplan!AM9=\"\",\"\",Spielplan!AM9)","v":""}]
[null,{"$f":"Spielplan!A10","v":"H3"},{"$f":"IF(Spielplan!C10=\"\",\"\",Spielplan!C10)","v":""},{"$f":"IF(Spielplan!I10=\"\",\"\",Spielplan!I10)","v":0},null,null,null,null,null,null,null,null,null,{"$f":"Spielplan!E10","v":"G3"},{"$f":"IF(Spielplan!G10=\"\",\"\",Spielplan!G10)","v":""},{"$f":"IF(Spielplan!U10=\"\",\"\",Spielplan!U10)","v":0},null,null,null,null,null,null,null,null,null,{"$f":"IF(Spielplan!AG10=\"\",\"\",Spielplan!AG10)","v":""},":",{"$f":"IF(Spielplan!AI10=\"\",\"\",Spielplan!AI10)","v":""},null,{"$f":"IF(Spielplan!AK10=\"\",\"\",Spielplan!AK10)","v":""},":",{"$f":"IF(Spielplan!AM10=\"\",\"\",Spielplan!AM10)","v":""}]
[null,{"$f":"Spielplan!A11","v":"H4"},{"$f":"IF(Spielplan!C11=\"\",\"\",Spielplan!C11)","v":""},{"$f":"IF(Spielplan!I11=\"\",\"\",Spielplan!I11)","v":0},null,null,null,null,null,null,null,null,null,{"$f":"Spielplan!E11","v":"G4"},{"$f":"IF(Spielplan!G11=\"\",\"\",Spielplan!G11)","v":""},{"$f":"IF(Spielplan!U11=\"\",\"\",Spielplan!U11)","v":0},null,null,null,null,null,null,null,null,null,{"$f":"IF(Spielplan!AG11=\"\",\"\",Spielplan!AG11)","v":""},":",{"$f":"IF(Spielplan!AI11=\"\",\"\",Spielplan!AI11)","v":""},null,{"$f":"IF(Spielplan!AK11=\"\",\"\",Spielplan!AK11)","v":""},":",{"$f":"IF(Spielplan!AM11=\"\",\"\",Spielplan!AM11)","v":""}]
[null,null,null,null,null,null,null,null,null,null,null,null,null,null,null,null,null,null,null,null,null,null,null,null,null,null,null,{"$f":"IF(Spielplan!AI12=\"\",\"\",Spielplan!AI12)","v":""},null,{"$f":"IF(Spielplan!AK12=\"\",\"\",Spielplan!AK12)","v":""},null,{"$f":"IF(Spielplan!AM12=\"\",\"\",Spielplan!AM12)","v":""}]
["Einzel",{"$f":"Spielplan!A13","v":"H1"},{"$f":"IF(Spielplan!C13=\"\",\"\",Spielplan!C13)","v":""},{"$f":"IF(Spielplan!I13=\"\",\"\",Spielplan!I13)","v":0},null,null,null,null,null,null,null,null,null,{"$f":"Spielplan!E13","v":"G2"},{"$f":"IF(Spielplan!G13=\"\",\"\",Spielplan!G13)","v":""},{"$f":"IF(Spielplan!U13=\"\",\"\",Spielplan!U13)","v":0},null,null,null,null,null,null,null,null,null,{"$f":"IF(Spielplan!AG13=\"\",\"\",Spielplan!AG13)","v":""},":",{"$f":"IF(Spielplan!AI13=\"\",\"\",Spielplan!AI13)","v":""},null,{"$f":"IF(Spielplan!AK13=\"\",\"\",Spielplan!AK13)","v":""},":",{"$f":"IF(Spielplan!AM13=\"\",\"\",Spielplan!AM13)","v":""}]
[null,{"$f":"Spielplan!A14","v":"H2"},{"$f":"IF(Spielplan!C14=\"\",\"\",Spielplan!C14)","v":""},{"$f":"IF(Spielplan!I14=\"\",\"\",Spielplan!I14)","v":0},null,null,null,null,null,null,null,null,null,{"$f":"Spielplan!E14","v":"G1"},{"$f":"IF(Spielplan!G14=\"\",\"\",Spielplan!G14)","v":""},{"$f":"IF(Spielplan!U14=\"\",\"\",Spielplan!U14)","v":0},null,null,null,null,null,null,null,null,null,{"$f":"IF(Spielplan!AG14=\"\",\"\",Spielplan!AG14)","v":""},":",{"$f":"IF(Spielplan!AI14=\"\",\"\",Spielplan!AI14)","v":""},null,{"$f":"IF(Spielplan!AK14=\"\",\"\",Spielplan!AK14)","v":""},":",{"$f":"IF(Spielplan!AM14=\"\",\"\",Spielplan!AM14)","v":""}]
[null,{"$f":"Spielplan!A15","v":"H3"},{"$f":"IF(Spielplan!C15=\"\",\"\",Spielplan!C15)","v":""},{"$f":"IF(Spielplan!I15=\"\",\"\",Spielplan!I15)","v":0},null,null,null,null,null,null,null,null,null,{"$f":"Spielplan!E15","v":"G4"},{"$f":"IF(Spielplan!G15=\"\",\"\",Spielplan!G15)","v":""},{"$f":"IF(Spielplan!U15=\"\",\"\",Spielplan!U15)","v":0},null,null,null,null,null,null,null,null,null,{"$f":"IF(Spielplan!AG15=\"\",\"\",Spielplan!AG15)","v":""},":",{"$f":"IF(Spielplan!AI15=\"\",\"\",Spielplan!AI15)","v":""},null,{"$f":"IF(Spielplan!AK15=\"\",\"\",Spielplan!AK15)","v":""},":",{"$f":"IF(Spielplan!AM15=\"\",\"\",Spielplan!AM15)","v":""}]
[null,{"$f":"Spielplan!A16","v":"H4"},{"$f":"IF(Spielplan!C16=\"\",\"\",Spielplan!C16)","v":""},{"$f":"IF(Spielplan!I16=\"\",\"\",Spielplan!I16)","v":0},null,null,null,null,null,null,null,null,null,{"$f":"Spielplan!E16","v":"G3"},{"$f":"IF(Spielplan!G16=\"\",\"\",Spielplan!G16)","v":""},{"$f":"IF(Spielplan!U16=\"\",\"\",Spielplan!U16)","v":0},null,null,null,null,null,null,null,null,null,{"$f":"IF(Spielplan!AG16=\"\",\"\",Spielplan!AG16)","v":""},":",{"$f":"IF(Spielplan!AI16=\"\",\"\",Spielplan!AI16)","v":""},null,{"$f":"IF(Spielplan!AK16=\"\",\"\",Spielplan!AK16)","v":""},":",{"$f":"IF(Spielplan!AM16=\"\",\"\",Spielplan!AM16)","v":""}]
[null,null,null,null,null,null,null,null,null,null,null,null,null,null,null,null,null,null,null,null,null,null,null,null,null,null,null,{"$f":"IF(Spielplan!AI17=\"\",\"\",Spielplan!AI17)","v":""},null,{"$f":"IF(Spielplan!AK17=\"\",\"\",Spielplan!AK17)","v":""},null,{"$f":"IF(Spielplan!AM17=\"\",\"\",Spielplan!AM17)","v":""}]
["Doppel",{"$f":"Spielplan!A18","v":"H1"},{"$f":"IF(Spielplan!C18=\"\",\"\",Spielplan!C18)","v":""},{"$f":"IF(Spielplan!I18=\"\",\"\",Spielplan!I18)","v":0},null,null,null,null,null,null,null,null,null,{"$f":"Spielplan!E18","v":"G1"},{"$f":"IF(Spielplan!G18=\"\",\"\",Spielplan!G18)","v":""},{"$f":"IF(Spielplan!U18=\"\",\"\",Spielplan!U18)","v":0},null,null,null,null,null,null,null,null,null,{"$f":"IF(Spielplan!AG18=\"\",\"\",Spielplan!AG18)","v":""},":",{"$f":"IF(Spielplan!AI18=\"\",\"\",Spielplan!AI18)","v":""},null,{"$f":"IF(Spielplan!AK18=\"\",\"\",Spielplan!AK18)","v":""},":",{"$f":"IF(Spielplan!AM18=\"\",\"\",Spielplan!AM18)","v":""}]
[null,{"$f":"Spielplan!A19","v":"H2"},{"$f":"IF(Spielplan!C19=\"\",\"\",Spielplan!C19)","v":""},{"$f":"IF(Spielplan!I19=\"\",\"\",Spielplan!I19)","v":0},null,null,null,null,null,null,null,null,null,{"$f":"Spielplan!E19","v":"G2"},{"$f":"IF(Spielplan!G19=\"\",\"\",Spielplan!G19)","v":""},{"$f":"IF(Spielplan!U19=\"\",\"\",Spielplan!U19)","v":0},null,null,null,null,null,null,null,null,null,{"$f":"IF(Spielplan!AG19=\"\",\"\",Spielplan!AG19)","v":""},null,{"$f":"IF(Spielplan!AI19=\"\",\"\",Spielplan!AI19)","v":""},null,{"$f":"IF(Spielplan!AK19=\"\",\"\",Spielplan!AK19)","v":""},null,{"$f":"IF(Spielplan!AM19=\"\",\"\",Spielplan!AM19)","v":""}]
[null,{"$f":"Spielplan!A20","v":"H3"},{"$f":"IF(Spielplan!C20=\"\",\"\",Spielplan!C20)","v":""},{"$f":"IF(Spielplan!I20=\"\",\"\",Spielplan!I20)","v":0},null,null,null,null,null,null,null,null,null,{"$f":"Spielplan!E20","v":"G3"},{"$f":"IF(Spielplan!G20=\"\",\"\",Spielplan!G20)","v":""},{"$f":"IF(Spielplan!U20=\"\",\"\",Spielplan!U20)","v":0},null,null,null,null,null,null,null,null,null,{"$f":"IF(Spielplan!AG20=\"\",\"\",Spielplan!AG20)","v":""},":",{"$f":"IF(Spielplan!AI20=\"\",\"\",Spielplan!AI20)","v":""},null,{"$f":"IF(Spielplan!AK20=\"\",\"\",Spielplan!AK20)","v":""},":",{"$f":"IF(Spielplan!AM20=\"\",\"\",Spielplan!AM20)","v":""}]
[null,{"$f":"Spielplan!A21","v":"H4"},{"$f":"IF(Spielplan!C21=\"\",\"\",Spielplan!C21)","v":""},{"$f":"IF(Spielplan!I21=\"\",\"\",Spielplan!I21)","v":0},null,null,null,null,null,null,null,null,null,{"$f":"Spielplan!E21","v":"G4"},{"$f":"IF(Spielplan!G21=\"\",\"\",Spielplan!G21)","v":""},{"$f":"IF(Spielplan!U21=\"\",\"\",Spielplan!U21)","v":0},null,null,null,null,null,null,null,null,null,{"$f":"IF(Spielplan!AG21=\"\",\"\",Spielplan!AG21)","v":""},null,{"$f":"IF(Spielplan!AI21=\"\",\"\",Spielplan!AI21)","v":""},null,{"$f":"IF(Spielplan!AK21=\"\",\"\",Spielplan!AK21)","v":""},null,{"$f":"IF(Spielplan!AM21=\"\",\"\",Spielplan!AM21)","v":""}]
[null,null,null,null,null,null,null,null,null,null,null,null,null,null,null,null,null,null,null,null,null,null,null,null,null,null,null,{"$f":"IF(Spielplan!AI22=\"\",\"\",Spielplan!AI22)","v":""},null,{"$f":"IF(Spielplan!AK22=\"\",\"\",Spielplan!AK22)","v":""},null,{"$f":"IF(Spielplan!AM22=\"\",\"\",Spielplan!AM22)","v":""}]
["Einzel",{"$f":"Spielplan!A23","v":"H1"},{"$f":"IF(Spielplan!C23=\"\",\"\",Spielplan!C23)","v":""},{"$f":"IF(Spielplan!I23=\"\",\"\",Spielplan!I23)","v":0},null,null,null,null,null,null,null,null,null,{"$f":"Spielplan!E23","v":"G3"},{"$f":"IF(Spielplan!G23=\"\",\"\",Spielplan!G23)","v":""},{"$f":"IF(Spielplan!U23=\"\",\"\",Spielplan!U23)","v":0},null,null,null,null,null,null,null,null,null,{"$f":"IF(Spielplan!AG23=\"\",\"\",Spielplan!AG23)","v":""},":",{"$f":"IF(Spielplan!AI23=\"\",\"\",Spielplan!AI23)","v":""},null,{"$f":"IF(Spielplan!AK23=\"\",\"\",Spielplan!AK23)","v":""},":",{"$f":"IF(Spielplan!AM23=\"\",\"\",Spielplan!AM23)","v":""}]
[null,{"$f":"Spielplan!A24","v":"H2"},{"$f":"IF(Spielplan!C24=\"\",\"\",Spielplan!C24)","v":""},{"$f":"IF(Spielplan!I24=\"\",\"\",Spielplan!I24)","v":0},null,null,null,null,null,null,null,null,null,{"$f":"Spielplan!E24","v":"G4"},{"$f":"IF(Spielplan!G24=\"\",\"\",Spielplan!G24)","v":""},{"$f":"IF(Spielplan!U24=\"\",\"\",Spielplan!U24)","v":0},null,null,null,null,null,null,null,null,null,{"$f":"IF(Spielplan!AG24=\"\",\"\",Spielplan!AG24)","v":""},":",{"$f":"IF(Spielplan!AI24=\"\",\"\",Spielplan!AI24)","v":""},null,{"$f":"IF(Spielplan!AK24=\"\",\"\",Spielplan!AK24)","v":""},":",{"$f":"IF(Spielplan!AM24=\"\",\"\",Spielplan!AM24)","v":""}]
[null,{"$f":"Spielplan!A25","v":"H3"},{"$f":"IF(Spielplan!C25=\"\",\"\",Spielplan!C25)","v":""},{"$f":"IF(Spielplan!I25=\"\",\"\",Spielplan!I25)","v":0},null,null,null,null,null,null,null,null,null,{"$f":"Spielplan!E25","v":"G1"},{"$f":"IF(Spielplan!G25=\"\",\"\",Spielplan!G25)","v":""},{"$f":"IF(Spielplan!U25=\"\",\"\",Spielplan!U25)","v":0},null,null,null,null,null,null,null,null,null,{"$f":"IF(Spielplan!AG25=\"\",\"\",Spielplan!AG25)","v":""},":",{"$f":"IF(Spielplan!AI25=\"\",\"\",Spielplan!AI25)","v":""},null,{"$f":"IF(Spielplan!AK25=\"\",\"\",Spielplan!AK25)","v":""},":",{"$f":"IF(Spielplan!AM25=\"\",\"\",Spielplan!AM25)","v":""}]
[null,{"$f":"Spielplan!A26","v":"H4"},{"$f":"IF(Spielplan!C26=\"\",\"\",Spielplan!C26)","v":""},{"$f":"IF(Spielplan!I26=\"\",\"\",Spielplan!I26)","v":0},null,null,null,null,null,null,null,null,null,{"$f":"Spielplan!E26","v":"G2"},{"$f":"IF(Spielplan!G26=\"\",\"\",Spielplan!G26)","v":""},{"$f":"IF(Spielplan!U26=\"\",\"\",Spielplan!U26)","v":0},null,null,null,null,null,null,null,null,null,{"$f":"IF(Spielplan!AG26=\"\",\"\",Spielplan!AG26)","v":""},":",{"$f":"IF(Spielplan!AI26=\"\",\"\",Spielplan!AI26)","v":""},null,{"$f":"IF(Spielplan!AK26=\"\",\"\",Spielplan!AK26)","v":""},":",{"$f":"IF(Spielplan!AM26=\"\",\"\",Spielplan!AM26)","v":""}]
[null,null,null,null,null,null,null,null,null,null,null,null,null,null,null,null,null,null,null,null,null,null,null,null,null,null,null,{"$f":"IF(Spielplan!AI27=\"\",\"\",Spielplan!AI27)","v":""},null,{"$f":"IF(Spielplan!AK27=\"\",\"\",Spielplan!AK27)","v":""},null,{"$f":"IF(Spielplan!AM27=\"\",\"\",Spielplan!AM27)","v":""}]
["Einzel",{"$f":"Spielplan!A28","v":"H1"},{"$f":"IF(Spielplan!C28=\"\",\"\",Spielplan!C28)","v":""},{"$f":"IF(Spielplan!I28=\"\",\"\",Spielplan!I28)","v":0},null,null,null,null,null,null,null,null,null,{"$f":"Spielplan!E28","v":"G4"},{"$f":"IF(Spielplan!G28=\"\",\"\",Spielplan!G28)","v":""},{"$f":"IF(Spielplan!U28=\"\",\"\",Spielplan!U28)","v":0},null,null,null,null,null,null,null,null,null,{"$f":"IF(Spielplan!AG28=\"\",\"\",Spielplan!AG28)","v":""},":",{"$f":"IF(Spielplan!AI28=\"\",\"\",Spielplan!AI28)","v":""},null,{"$f":"IF(Spielplan!AK28=\"\",\"\",Spielplan!AK28)","v":""},":",{"$f":"IF(Spielplan!AM28=\"\",\"\",Spielplan!AM28)","v":""}]
[null,{"$f":"Spielplan!A29","v":"H2"},{"$f":"IF(Spielplan!C29=\"\",\"\",Spielplan!C29)","v":""},{"$f":"IF(Spielplan!I29=\"\",\"\",Spielplan!I29)","v":0},null,null,null,null,null,null,null,null,null,{"$f":"Spielplan!E29","v":"G3"},{"$f":"IF(Spielplan!G29=\"\",\"\",Spielplan!G29)","v":""},{"$f":"IF(Spielplan!U29=\"\",\"\",Spielplan!U29)","v":0},null,null,null,null,null,null,null,null,null,{"$f":"IF(Spielplan!AG29=\"\",\"\",Spielplan!AG29)","v":""},":",{"$f":"IF(Spielplan!AI29=\"\",\"\",Spielplan!AI29)","v":""},null,{"$f":"IF(Spielplan!AK29=\"\",\"\",Spielplan!AK29)","v":""},":",{"$f":"IF(Spielplan!AM29=\"\",\"\",Spielplan!AM29)","v":""}]
[null,{"$f":"Spielplan!A30","v":"H3"},{"$f":"IF(Spielplan!C30=\"\",\"\",Spielplan!C30)","v":""},{"$f":"IF(Spielplan!I30=\"\",\"\",Spielplan!I30)","v":0},null,null,null,null,null,null,null,null,null,{"$f":"Spielplan!E30","v":"G2"},{"$f":"IF(Spielplan!G30=\"\",\"\",Spielplan!G30)","v":""},{"$f":"IF(Spielplan!U30=\"\",\"\",Spielplan!U30)","v":0},null,null,null,null,null,null,null,null,null,{"$f":"IF(Spielplan!AG30=\"\",\"\",Spielplan!AG30)","v":""},":",{"$f":"IF(Spielplan!AI30=\"\",\"\",Spielplan!AI30)","v":""},null,{"$f":"IF(Spielplan!AK30=\"\",\"\",Spielplan!AK30)","v":""},":",{"$f":"IF(Spielplan!AM30=\"\",\"\",Spielplan!AM30)","v":""}]
[null,{"$f":"Spielplan!A31","v":"H4"},{"$f":"IF(Spielplan!C31=\"\",\"\",Spielplan!C31)","v":""},{"$f":"IF(Spielplan!I31=\"\",\"\",Spielplan!I31)","v":0},null,null,null,null,null,null,null,null,null,{"$f":"Spielplan!E31","v":"G1"},{"$f":"IF(Spielplan!G31=\"\",\"\",Spielplan!G31)","v":""},{"$f":"IF(Spielplan!U31=\"\",\"\",Spielplan!U31)","v":0},null,null,null,null,null,null,null,null,null,{"$f":"IF(Spielplan!AG31=\"\",\"\",Spielplan!AG31)","v":""},":",{"$f":"IF(Spielplan!AI31=\"\",\"\",Spielplan!AI31)","v":""},null,{"$f":"IF(Spielplan!AK31=\"\",\"\",Spielplan!AK31)","v":""},":",{"$f":"IF(Spielplan!AM31=\"\",\"\",Spielplan!AM31)","v":""}]
[]
["Doppel",{"$f":"Spielplan!A33","v":"H1"},{"$f":"IF(Spielplan!C33=\"\",\"\",Spielplan!C33)","v":""},{"$f":"IF(Spielplan!I33=\"\",\"\",Spielplan!I33)","v":0},null,null,null,null,null,null,null,null,null,{"$f":"Spielplan!E33","v":"G3"},{"$f":"IF(Spielplan!G33=\"\",\"\",Spielplan!G33)","v":""},{"$f":"IF(Spielplan!U33=\"\",\"\",Spielplan!U33)","v":0},null,null,null,null,null,null,null,null,null,{"$f":"IF(Spielplan!AG33=\"\",\"\",Spielplan!AG33)","v":""},":",{"$f":"IF(Spielplan!AI33=\"\",\"\",Spielplan!AI33)","v":""},null,{"$f":"IF(Spielplan!AK33=\"\",\"\",Spielplan!AK33)","v":""},":",{"$f":"IF(Spielplan!AM33=\"\",\"\",Spielplan!AM33)","v":""}]
[null,{"$f":"Spielplan!A34","v":"H2"},{"$f":"IF(Spielplan!C34=\"\",\"\",Spielplan!C34)","v":""},{"$f":"IF(Spielplan!I34=\"\",\"\",Spielplan!I34)","v":0},null,null,null,null,null,null,null,null,null,{"$f":"Spielplan!E34","v":"G4"},{"$f":"IF(Spielplan!G34=\"\",\"\",Spielplan!G34)","v":""},{"$f":"IF(Spielplan!U34=\"\",\"\",Spielplan!U34)","v":0},null,null,null,null,null,null,null,null,null,{"$f":"IF(Spielplan!AG34=\"\",\"\",Spielplan!AG34)","v":""},null,{"$f":"IF(Spielplan!AI34=\"\",\"\",Spielplan!AI34)","v":""},null,{"$f":"IF(Spielplan!AK34=\"\",\"\",Spielplan!AK34)","v":""},null,{"$f":"IF(Spielplan!AM34=\"\",\"\",Spielplan!AM34)","v":""}]
[null,{"$f":"Spielplan!A35","v":"H3"},{"$f":"IF(Spielplan!C35=\"\",\"\",Spielplan!C35)","v":""},{"$f":"IF(Spielplan!I35=\"\",\"\",Spielplan!I35)","v":0},null,null,null,null,null,null,null,null,null,{"$f":"Spielplan!E35","v":"G1"},{"$f":"IF(Spielplan!G35=\"\",\"\",Spielplan!G35)","v":""},{"$f":"IF(Spielplan!U35=\"\",\"\",Spielplan!U35)","v":0},null,null,null,null,null,null,null,null,null,{"$f":"IF(Spielplan!AG35=\"\",\"\",Spielplan!AG35)","v":""},":",{"$f":"IF(Spielplan!AI35=\"\",\"\",Spielplan!AI35)","v":""},null,{"$f":"IF(Spielplan!AK35=\"\",\"\",Spielplan!AK35)","v":""},":",{"$f":"IF(Spielplan!AM35=\"\",\"\",Spielplan!AM35)","v":""}]
[null,{"$f":"Spielplan!A36","v":"H4"},{"$f":"IF(Spielplan!C36=\"\",\"\",Spielplan!C36)","v":""},{"$f":"IF(Spielplan!I36=\"\",\"\",Spielplan!I36)","v":0},null,null,null,null,null,null,null,null,null,{"$f":"Spielplan!E36","v":"G2"},{"$f":"IF(Spielplan!G36=\"\",\"\",Spielplan!G36)","v":""},{"$f":"IF(Spielplan!U36=\"\",\"\",Spielplan!U36)","v":0},null,null,null,null,null,null,null,null,null,{"$f":"IF(Spielplan!AG36=\"\",\"\",Spielplan!AG36)","v":""},null,{"$f":"IF(Spielplan!AI36=\"\",\"\",Spielplan!AI36)","v":""},null,{"$f":"IF(Spielplan!AK36=\"\",\"\",Spielplan!AK36)","v":""},null,{"$f":"IF(Spielplan!AM36=\"\",\"\",Spielplan!AM36)","v":""}]
[]
[]
[]
[]
[]
[]
[null,null,"Protest*",null,null,null,null,null,null,null,null,null,null,"Protest*"]
[null,null,null,null,null,null,null,null,null,null,null,null,null,null,null,null,null,null,null,null,null,null,null,null,null,"Ergebnis:"]
[null,null,null,null,null,null,null,null,null,null,null,null,null,null,null,null,null,null,null,null,null,null,null,null,null,"Legs",null,null,null,"Punkte"]
[null,null,null,null,null,null,null,null,null,null,null,null,null,null,null,null,null,null,null,null,null,null,null,null,null,{"$f":"IF(Spielplan!AG1=\"\",\"\",Spielplan!AG1)","v":0},":",{"$f":"IF(Spielplan!AG3=\"\",\"\",Spielplan!AG3)","v":0},null,{"$f":"IF(Spielplan!A1=\"\",\"\",Spielplan!A1)","v":0},":",{"$f":"IF(Spielplan!A3=\"\",\"\",Spielplan!A3)","v":0}]
[null,null,"(Unterschrift TC-Heim)",null,null,null,null,null,null,null,null,null,null,"(Unterschrift TC-Gast)"]
[]
[]
[null,"Innerhalb von 24 Stunden ist das Ergebnis vom Teamcaptain der Heimmannschaft in nuLiga (Schnellerfassung, nur Ergebnis) einzutragen."]
[null,"Innerhalb von 3 Werktagen ist der Bericht per E-Mail an den Ligaleiter zu senden und das komplette Spiel in nuLiga einzutragen."]
[]
[]
[]
["Erfassung der Highligts"]
[]
["Pos",null,"Spielername Heimmannschaft",null,null,null,null,null,null,null,null,null,null,null,null,"Highlights"]
[null,null,null,null,null,null,null,null,null,null,null,null,null,null,null,"180er",null,"Highfinish",null,null,null,null,"Shortlegs"]
["H1:",null,{"$f":"IF(Heim!B6=\"\",\"\",Heim!B6)","v":""}]
["H2:",null,{"$f":"IF(Heim!B7=\"\",\"\",Heim!B7)","v":""}]
["H3:",null,{"$f":"IF(Heim!B8=\"\",\"\",Heim!B8)","v":""}]
["H4:",null,{"$f":"IF(Heim!B9=\"\",\"\",Heim!B9)","v":""}]
["HE1:",null,{"$f":"IF(Heim!B10=\"\",\"\",Heim!B10)","v":""}]
["HE2:",null,{"$f":"IF(Heim!B11=\"\",\"\",Heim!B11)","v":""}]
["HE3:",null,{"$f":"IF(Heim!B12=\"\",\"\",Heim!B12)","v":""}]
["HE4:",null,{"$f":"IF(Heim!B13=\"\",\"\",Heim!B13)","v":""}]
[]
["Pos",null,"Doppelpaarungen Heimmannschaft",null,null,null,null,null,null,null,null,null,null,null,null,"Highlights"]
[null,null,null,null,null,null,null,null,null,null,null,null,null,null,null,"180er",null,"Highfinish",null,null,null,null,"Shortlegs"]
[{"$f":"Spielplan!A18","v":"H1"},null,{"$f":"IF(Spielplan!I18=\"\",\"\",Spielplan!I18)","v":0}]
[{"$f":"Spielplan!A19","v":"H2"},null,{"$f":"IF(Spielplan!I19=\"\",\"\",Spielplan!I19)","v":0}]
[{"$f":"Spielplan!A25","v":"H3"},null,{"$f":"IF(Spielplan!I20=\"\",\"\",Spielplan!I20)","v":0}]
[{"$f":"Spielplan!A21","v":"H4"},null,{"$f":"IF(Spielplan!I21=\"\",\"\",Spielplan!I21)","v":0}]
[{"$f":"Spielplan!#REF!","v":{"$error":"#REF!"}},null,{"$f":"IF(Spielplan!#REF!=\"\",\"\",Spielplan!#REF!)","v":{"$error":"#REF!"}}]
[{"$f":"Spielplan!#REF!","v":{"$error":"#REF!"}},null,{"$f":"IF(Spielplan!#REF!=\"\",\"\",Spielplan!#REF!)","v":{"$error":"#REF!"}}]
[{"$f":"Spielplan!#REF!","v":{"$error":"#REF!"}},null,{"$f":"IF(Spielplan!#REF!=\"\",\"\",Spielplan!#REF!)","v":{"$error":"#REF!"}}]
[{"$f":"Spielplan!#REF!","v":{"$error":"#REF!"}},null,{"$f":"IF(Spielplan!#REF!=\"\",\"\",Spielplan!#REF!)","v":{"$error":"#REF!"}}]
[]
["Pos",null,"Spielername Gastmannschaft",null,null,null,null,null,null,null,null,null,null,null,null,"Highlights"]
[null,null,null,null,null,null,null,null,null,null,null,null,null,null,null,"180er",null,"Highfinish",null,null,null,null,"Shortlegs"]
["G1:",null,{"$f":"IF(Gast!B6=\"\",\"\",Gast!B6)","v":""}]
["G2:",null,{"$f":"IF(Gast!B7=\"\",\"\",Gast!B7)","v":""}]
["G3:",null,{"$f":"IF(Gast!B8=\"\",\"\",Gast!B8)","v":""}]
["G4:",null,{"$f":"IF(Gast!B9=\"\",\"\",Gast!B9)","v":""}]
["GE1:",null,{"$f":"IF(Gast!B10=\"\",\"\",Gast!B10)","v":""}]
["GE2:",null,{"$f":"IF(Gast!B11=\"\",\"\",Gast!B11)","v":""}]
["GE3:",null,{"$f":"IF(Gast!B12=\"\",\"\",Gast!B12)","v":""}]
["GE4:",null,{"$f":"IF(Gast!B13=\"\",\"\",Gast!B13)","v":""}]
[]
["Pos",null,"Doppelpaarungen Heimmannschaft",null,null,null,null,null,null,null,null,null,null,null,null,"Highlights"]
[null,null,null,null,null,null,null,null,null,null,null,null,null,null,null,"180er",null,"Highfinish",null,null,null,null,"Shortlegs"]
[{"$f":"Spielplan!E18","v":"G1"},null,{"$f":"IF(Spielplan!U18=\"\",\"\",Spielplan!U18)","v":0}]
[{"$f":"Spielplan!E19","v":"G2"},null,{"$f":"IF(Spielplan!U19=\"\",\"\",Spielplan!U19)","v":0}]
[{"$f":"Spielplan!E20","v":"G3"},null,{"$f":"IF(Spielplan!U20=\"\",\"\",Spielplan!U20)","v":0}]
[{"$f":"Spielplan!E21","v":"G4"},null,{"$f":"IF(Spielplan!U21=\"\",\"\",Spielplan!U21)","v":0}]
[{"$f":"Spielplan!#REF!","v":{"$error":"#REF!"}},null,{"$f":"IF(Spielplan!#REF!=\"\",\"\",Spielplan!#REF!)","v":{"$error":"#REF!"}}]
[{"$f":"Spielplan!#REF!","v":{"$error":"#REF!"}},null,{"$f":"IF(Spielplan!#REF!=\"\",\"\",Spielplan!#REF!)","v":{"$error":"#REF!"}}]
[{"$f":"Spielplan!#REF!","v":{"$error":"#REF!"}},null,{"$f":"IF(Spielplan!#REF!=\"\",\"\",Spielplan!#REF!)","v":{"$error":"#REF!"}}]
[{"$f":"Spielplan!#REF!","v":{"$error":"#REF!"}},null,{"$f":"IF(Spielplan!#REF!=\"\",\"\",Spielplan!#REF!)","v":{"$error":"#REF!"}}]